BEGIN:VCALENDAR
VERSION:2.0
PRODID:-//saibabaseattle.com//Events//EN
BEGIN:VEVENT
UID:event-387@saibabaseattle.com
DTSTAMP:20260424T143804Z
SUMMARY:GURUBIKSHA 2026
DTSTART:20260502T001200Z
DTEND:20260730T121200Z
LOCATION:
DESCRIPTION:
END:VEVENT
END:VCALENDAR
