BEGIN:VCALENDAR
VERSION:2.0
PRODID:-//saibabaseattle.com//Events//EN
BEGIN:VEVENT
UID:event-383@saibabaseattle.com
DTSTAMP:20260420T014712Z
SUMMARY:Hanuman Jayanthi
DTSTART:20260509T165500Z
DTEND:20260511T165500Z
LOCATION:
DESCRIPTION:Aaku Puja
END:VEVENT
END:VCALENDAR
